BEGIN:VCALENDAR
VERSION:2.0
PRODID:-//Tukios.com/
BEGIN:VEVENT
UID:7d83955a-7c01-49a7-a3b3-8bb713d84af3@www.thegoodshepherdfuneralhome.com
DTSTAMP:20260421T200535Z
DTSTART:20260422T210000Z
DTEND:20260422T230000Z
SUMMARY:Viewing
DESCRIPTION:Flowers may be delivered 12:00 PM to 4:00 PM
URL:https://www.thegoodshepherdfuneralhome.com/obituaries/ronald-rogers
LOCATION: 150 White St  Montevallo AL 35115
GEO:33.0968065;-86.8658014
END:VEVENT
END:VCALENDAR