BEGIN:VCALENDAR
VERSION:2.0
PRODID:-//Tukios.com/
BEGIN:VEVENT
UID:804762eb-61c6-4697-801b-06b1d527e503@www.thegoodshepherdfuneralhome.com
DTSTAMP:20260421T195902Z
DTSTART:20260423T160000Z
DTEND:20260423T170000Z
SUMMARY:Celebration of Life
DESCRIPTION:
URL:https://www.thegoodshepherdfuneralhome.com/obituaries/ronald-rogers
LOCATION:Liberty Baptist Church 306. 5th Ave. SE  Alabaster AL 35007
GEO:33.2397529;-86.8114359
END:VEVENT
END:VCALENDAR